BEGIN:VCALENDAR
VERSION:2.0
PRODID:-//eventon.com NONSGML v1.0//EN
CALSCALE:GREGORIAN
METHOD:PUBLISH
BEGIN:VEVENT
UID:69e6420b20e4b
DTSTAMP:20260420T151107Z
DTSTART:20260408T183000Z
DTEND:20260408T183000Z
LOCATION:Boiler Shop Newcastle 20 South Street\,  Newcastle upon Tyne\,  United Kingdom\,  UK
SUMMARY:Laura Jane Grace // Newcastle Boiler Shop
DESCRIPTION:Anarchic musician\,  Emmy award nominee\,  writer\,  and LGBTQ 
 activist\,  Laura Jane Grace is par excellence a leading persona in the con
 temporary rock scene\,  both with her solo career and as a frontwoman for A
 gainst Me!\,  a band she founded in Naples\,  Florida\,  in the late 1990s.
 \nhttps://soundbitenortheast.com/events/laura-jane-grace-newcastle-boiler-s
 hop/
URL:https://soundbitenortheast.com/events/laura-jane-grace-newcastle-boiler-shop/
END:VEVENT
END:VCALENDAR